Workbook

Sheet 1 Capital Project Request
A1: Capital Project Request Form: | I1: Type in green cells (if applicable)
A2: Project Name
A4: Your Name | E4: Your email address
A6: Select Portfolio from dropdown q | E6: If other, please specify
A8: Select Department from dropdown q | E8: If other, please specify
A10: Project Description (Mandatory)
A12: Board Direction (Mandatory)
A14: Commitments Made (i.e. Board Approved, Donor Sponsored, Endowment, etc.) (IF APPLICABLE)
A16: Ongoing Operating Expenses (i.e. Energy efficiencies, maintenance increase or decrease, utilities increase or decrease, etc.) (IF APPLICABLE)
A18: Expenditure Type ($) | B18: All Previous Years Until Apr 30, 2026 | C18: 2027 May 1, 2026 - Apr 30, 2027 | D18: 2028 May 1, 2027 - Apr 30, 2028 | E18: 2029 May 1, 2028 - Apr 30, 2029 | F18: 2030 May 1, 2029 - Apr 30, 2030 | G18: 2031 May 1, 2030 - Apr 30, 2031 | H18: 2032 May 1, 2031- Apr 30, 2032 | I18: Total
A19: Expenditure - Planning/Concept | I19: =SUM(B19:H19) -> 0
A20: Expenditure - Detailed Design | I20: =SUM(B20:H20) -> 0
A21: Expenditure - Contractual Service | I21: =SUM(B21:H21) -> 0
A22: Expenditure - Other Specify (type below): | I22: =SUM(B22:H22) -> 0
A23: TOTAL PROJECT EXPENSE: | B23: =SUM(B19:B22) -> 0 | C23: =SUM(C19:C22) -> 0 | D23: =SUM(D19:D22) -> 0 | E23: =SUM(E19:E22) -> 0 | F23: =SUM(F19:F22) -> 0 | G23: =SUM(G19:G22) -> 0 | H23: =SUM(H19:H22) -> 0 | I23: =SUM(I19:I22) -> 0
A25: Funding Source ($) | B25: All Previous Years | C25: 2027 | D25: 2028 | E25: 2029 | F25: 2030 | G25: 2031 | H25: 2032 | I25: Total
A26: Funding - Ancillary | I26: =SUM(B26:H26) -> 0
A27: Funding - Central Appropriation | I27: =SUM(B27:H27) -> 0
A28: Funding - Departmental Carryover | I28: =SUM(B28:H28) -> 0
A29: Funding - Endowment Trust | I29: =SUM(B29:H29) -> 0
A30: Funding - External | I30: =SUM(B30:H30) -> 0
A31: Funding - Grants FRP | I31: =SUM(B31:H31) -> 0
A32: Funding - Grants Other | I32: =SUM(B32:H32) -> 0
A33: Funding - Internal Financing | I33: =SUM(B33:H33) -> 0
A34: Funding - Operating | I34: =SUM(B34:H34) -> 0
A35: Funding - Philanthropy | I35: =SUM(B35:H35) -> 0
A36: Funding - Other: Debt Finance | I36: =SUM(B36:H36) -> 0
A37: Funding - Other: Reserve Fund | I37: =SUM(B37:H37) -> 0
A38: Funding - Other: Specify (type below): | I38: =SUM(B38:H38) -> 0
A39: TOTAL FUNDING: | B39: =SUM(B26:B38) -> 0 | C39: =SUM(C26:C38) -> 0 | D39: =SUM(D26:D38) -> 0 | E39: =SUM(E26:E38) -> 0 | F39: =SUM(F26:F38) -> 0 | G39: =SUM(G26:G38) -> 0 | H39: =SUM(H26:H38) -> 0 | I39: =SUM(I26:I38) -> 0
A41: Undefined Funding | B41: =B23-B39 -> 0 | C41: =C23-C39 -> 0 | D41: =D23-D39 -> 0 | E41: =E23-E39 -> 0 | F41: =F23-F39 -> 0 | G41: =G23-G39 -> 0 | H41: =H23-H39 -> 0 | I41: =I23-I39 -> 0
A43: Important Notes:
A44: - All dates are fiscal year end. 2028 captures planned expenditures or funding received from May 1, 2027 until April 30, 2028.
A45: - Capital Project(s) included in this request are proposed only and are not guaranteed to receive approval.
A46: - All amounts are presented in dollars ($).

Sheet 2 MVP
A1: MVP - Multivariable Prioritization Tool | C1: Name: | E1: ='1 Capital Project Request'!B4
C2: Project Name: | E2: ='1 Capital Project Request'!B2
E3: /\ Pulled from 1st Tab
A4: MVP for a New Capital Project (Choose from the dropdown in all green cells) | E4: OR | F4: MVP for an Existing Capital Asset (Choose from the dropdown in all blue cells)
A5: Category | B5: Select the most suitable criteria from each dropdown \/ | C5: Score | D5: Weight | F5: Category | G5: Select the most suitable criteria from each dropdown \/ | H5: Score | I5: Weight
A6: Use / Purpose of Asset | C6: =IFERROR(_xlfn.XLOOKUP(B6, 'MVP Weighting 4 Reference Only'!B3:B11, 'MVP Weighting 4 Reference Only'!C3:C11, ""), "") | D6: 0.4 | F6: Use / Purpose of Asset | H6: =IFERROR(_xlfn.XLOOKUP(G6, 'MVP Weighting 4 Reference Only'!G3:G11, 'MVP Weighting 4 Reference Only'!H3:H11, ""), "") | I6: 0.07
A7: Importance of Usage / Enabling Student Experiences | C7: =IFERROR(_xlfn.XLOOKUP(B7, 'MVP Weighting 4 Reference Only'!B12:B17, 'MVP Weighting 4 Reference Only'!C12:C17, ""), "") | D7: 0.4 | F7: Importance of Usage / Enabling Student Experiences | H7: =IFERROR(_xlfn.XLOOKUP(G7, 'MVP Weighting 4 Reference Only'!G12:G17, 'MVP Weighting 4 Reference Only'!H12:H17, ""), "") | I7: 0.13
A8: Adaptability (Multiuse or easy to repurpose) | C8: =IFERROR(_xlfn.XLOOKUP(B8, 'MVP Weighting 4 Reference Only'!B18:B20, 'MVP Weighting 4 Reference Only'!C18:C20, ""), "") | D8: 0.2 | F8: Adaptability (Multiuse or easy to repurpose) | H8: =IFERROR(_xlfn.XLOOKUP(G8, 'MVP Weighting 4 Reference Only'!G18:G20, 'MVP Weighting 4 Reference Only'!H18:H20, ""), "") | I8: 0.05
B9: Weighted Total | C9: =SUMPRODUCT(C6:C8,D6:D8) -> 0 | F9: Condition | H9: =IFERROR(_xlfn.XLOOKUP(G9, 'MVP Weighting 4 Reference Only'!G21:G25, 'MVP Weighting 4 Reference Only'!H21:H25, ""), "") | I9: 0.2
F10: System Priority | H10: =IFERROR(_xlfn.XLOOKUP(G10, 'MVP Weighting 4 Reference Only'!G26:G30, 'MVP Weighting 4 Reference Only'!H26:H30, ""), "") | I10: 0.2
A11: New Capital Project: - Focuses on creating or expanding assets - Addresses growth, capacity, or strategic needs - Increases future maintenance obligations - Creates or expands services | F11: Consequence of Failure | H11: =IFERROR(_xlfn.XLOOKUP(G11, 'MVP Weighting 4 Reference Only'!G31:G35, 'MVP Weighting 4 Reference Only'!H31:H35, ""), "") | I11: 0.1
F12: Effects on Users | H12: =IFERROR(_xlfn.XLOOKUP(G12, 'MVP Weighting 4 Reference Only'!G36:G40, 'MVP Weighting 4 Reference Only'!H36:H40, ""), "") | I12: 0.1
F13: Effects on Fabrics | H13: =IFERROR(_xlfn.XLOOKUP(G13, 'MVP Weighting 4 Reference Only'!G41:G45, 'MVP Weighting 4 Reference Only'!H41:H45, ""), "") | I13: 0.1
B14: Existing Capital Asset: (Renewal / Refurbishment / Rehabilitation): - Focuses on preserving existing assets - Addresses condition, risk, and lifecycle needs - Reduces deferred maintenance backlog - Supports existing services | F14: Accessibility | H14: =IFERROR(_xlfn.XLOOKUP(G14, 'MVP Weighting 4 Reference Only'!G46:G47, 'MVP Weighting 4 Reference Only'!H46:H47, ""), "") | I14: 0.05
G15: Weighted Total | H15: =SUMPRODUCT(H6:H14,I6:I14) -> 0

Sheet Definitions
A1: NEW Capital Project Request Form Definitions:
A2: Capital Project: is a strategic investment undertaken by the University to acquire, construct, develop, renovate, replace, or significantly enhance a tangible asset that provides long-term benefit to the institution and supports its academic, research, student, or administrative objectives. Capital projects result in the creation of a new asset, the extension of an existing asset's useful life, a substantial increase in asset capacity or funtionality, or the improvement of service delivery beyond routine maintenance and operating activities.
A3: Capital projects may include, but are not limited to: o Construction of new buildings, facilities, or infrastructure o Major renovations, expansions, or modernization of existing facilities o Acquisition and installation of major equipment, furnishings, or technology systems. | E3: o Significant site developments and utility infrastructure improvements. o Equipment replacement projects where the replacement materially improves performance, functionality, capacity, compliance, safety, or operational efficiency. o Bundled acquistions of related equipment or systems.
A4: Expenditure - Planning/Concept: Determining what to build/renovate. This is the early stage where the project idea is developed and tested to determine whether it is needed, feasbile, and affordable. In summary, we are seeking the following answers: "What is the project scope?" "Why do we need it?" "Can we afford it?" "Is it practical to proceed?"
A5: Typical activities include: o Identifying the project's purpose and requirements o Site investigations and preliminary studies o Feasibility assessments o Preliminary cost estimates o Concept sketches and layouts o Stakeholder consultations o Business case development | E5: Examples of expenditures: o Consultant fees for feasibility studies o Surveying and site assessments o Environmental studies o Preliminary architectural or engineering concepts o Cost planning and budgeting services. o Project Management fees
A6: Expenditure - Detailed Design: Once the project is approved in principle, the detailed design phase develops all of the information required for construction and tendering. In summary, we are seeking the following answers: "How will it be built" and/or "what are we buying"?
A7: Typical activities include: o Architectural design development o Structural, mechanical, and electrical engineering design o Preparation of construction drawings o Technical specifications o Permit and regulatory approvals o Detailed cost estimates o Preparing tender ready documents | E7: Examples of expenditures: o Architect and engineering fees o Building permit applications o Detailed drawings and specifications o Geotechnical and specialized engineering studies o Design review and coordination meetings o Project Management fees
A8: Expenditure - Contractual Service: These are professional services associated with procuring and/or administering construction contracts and/or overseeing the work during construction. Purchasing goods and/or services and/or hiring contractors to perform work, ensuring work is completed correctly (quality control) and/or managing the construction contract. In summary, purchase and/or build and complete the project.
A9: Typical activities include: o Procurement of goods and/or services o Site preparation o Demolition o Construction of building components o Installation of mechanical and electrical systems o Testing and commissioning o Final inspections and occupancy | E9: Examples of expenditures: o Contractor costs o Constructions labour o Building materials o Equipment and machinery o Trade contractors (electrical, plumbing, HVAC, etc.) o Furniture, fixtures, and equipment o Contingency and change orders o Project Management fees

Sheet DO NOT EDIT - DROP DOWNS
A1: DO NOT EDIT THIS PAGE: Dropdown references
A2: Portfolio | C2: Department | E2: Expenditure Type and Funding Source
A3: President | C3: Athletics & Recreation | E3: Expenditure - Planning/Concept
A4: Provost & VP, Academic | C4: Careerspace | E4: Expenditure - Detailed Design
A5: VP & Head Trent Durham GTA | C5: Colleges | E5: Expenditure - Contractual Service
A6: VP, External Relations, Marketing & Communications | C6: Durham GTA Campus | E6: Expenditure - Other
A7: VP, Finance & Administration | C7: Equity & Human Rights | E7: Funding - Ancillary
A8: VP, People, Culture & Student Services | C8: Facilities Management | E8: Funding - Central Appropriation
A9: VP, Research & Innovation | C9: Finance | E9: Funding - Departmental Carryover
C10: First Peoples House of Learning | E10: Funding - Endowment Trust
C11: Food & Campus Payment Services | E11: Funding - External
C12: Health, Safety & Accessibility | E12: Funding - Grants FRP
C13: Housing & Conference Services | E13: Funding - Grants Other
C14: Human Resources | E14: Funding - Internal Financing
C15: Humanities & Social Sciences | E15: Funding - Operating
C16: Information Technology | E16: Funding - Philanthropy
C17: Library | E17: Funding - Other: Debt Finance
C18: Marketing & Communications | E18: Funding - Other: Reserve Fund
C19: Philanthropy & Alumni Engagement | E19: Undefined Funding
C20: Presidents Office
C21: Print, Promotion & Logistics
C22: Provost
C23: Recruitment & Admissions
C24: Registrar's Office
C25: Research & Innovation
C26: Risk Management & Campus Safety
C27: School of Education
C28: School of Graduate Studies
C29: School of Nursing
C30: Science
C31: Secretariat's Office
... C35: Other

Sheet Instructions
A1: Instructions to Complete Capital Project Request:
A2: The purpose of completing this form is to help build Trent's Capital Program. Your information will be used to program your project in Trent's Capital Planning process. Without your information, your project may be missed in the planning process which will result in delays. *You must consult with Facilities Management before submitting your capital project proposal. Please contact the Director of Campus Planning and Development at pmo@trentu.ca if you have any questions. Please email completed form to both pmo@trentu.ca and mmacleod@trentu.ca (Mary MacLeod). It is important to recognize that large projects may required multi-year funding, and this should be reflected appropriately. Typically, large projects are carried out in three stages: conceptual design and high-level costing, detailed design with refined cost estimates or tendered costs, and construction or contractual services. Smaller projects may combine these stages differently depending on the delivery model. The project management office can offer additional guidance on delivery during the initial consultation with Facilities Management. Important to note: The Project Management Office is now planning new construction projects for the 2028 construction season. Exceptions may be granted through PVPs; however, timely requests are encouraged. *The form allows for future planning to identify years beyond the planned budget year. The budget committee requests that projects in future years, if known at this time, be included in the areas designated for forecasted budget years. *Remember that Space/Construction Committee approval is required. Please submit your information to the appropriate Committee(s) for their review. This form does not bypass any Committee approvals which may be necessary for your project.
A3: Select Portfolio from dropdown q | G3: Portfolio
G4: President
G5: Provost & VP, Academic
G6: VP, External Relations, Marketing & Communications
G7: VP, Finance & Administration
G8: VP, People, Culture & Student Services
G9: VP, Research & Innovation
G10: VP & Head Trent Durham GTA
A12: Select Department from dropdown q | G12: Department
G13: Athletics & Recreation
G14: Careerspace
G15: Colleges
G16: Durham GTA Campus
G17: Equity & Human Rights
G18: Facilities Management
G19: Finance
G20: etc….
A22: Project Name | B22: Format: Campus Code - Building Code - Room # (if applicable) - Description Example Project Names: DRM - Bldg B - 4th Floor Office Conversion SYM - DNA - B109 - Grad Studies Lounge Traill - Pedestrian Bridge TRENT - Campus Structural Repairs
A24: Project Description (Mandatory) | B24: Executive summary of the goal of the project.
A26: Board Direction (Mandatory) | B26: https://www.trentu.ca/board-directions/assets/documents/TrentU_BoardDirections2022-27.pdf
A28: Commitments Made (i.e. Board Approved, Donor Sponsored, Endowment, etc.) (IF APPLICABLE) | B28: Examples for your reference: - Donor sponsored. - Funds approved via F&P recommendation. - Capital funding being appropriated over time. - Work based on recommendations from a 2022 structural assessment. - Durham Task Force Report - or list others…
A30: Ongoing Operating Expenses (i.e. Energy efficiencies, maintenance increase or decrease, utilities increase or decrease, etc.) (IF APPLICABLE) | B30: Examples for your reference: - Additional grounds maintenance costs. - Potential energy efficiencies. - Costs associated with new facility (utilities, maintenance, caretaking). - Additional winter maintenance. - Appropriate preventative maintenance will reduce annual maintenance expenses over time. - Housing Strategy provided to F&P and BOG as information; renewal plan provided to F&P as information. - or list others…
A32: Expenditure Type ($) | B32: All Previous Years Until Apr 30, 2026 | C32: 2027 May 1, 2026 - Apr 30, 2027 | D32: 2028 May 1, 2027 - Apr 30, 2028 | E32: 2029 May 1, 2028 - Apr 30, 2029 | F32: 2030 May 1, 2029 - Apr 30, 2030 | G32: 2031 May 1, 2030 - Apr 30, 2031 | H32: 2032 May 1, 2031- Apr 30, 2032 | I32: Total
A33: Expenditure - Planning/Concept | C33: 100000 | I33: =SUM(B33:H33) -> 100000
A34: Expenditure - Detailed Design | D34: 200000 | I34: =SUM(B34:H34) -> 200000
A35: Expenditure - Contractual Service | E35: 1000000 | F35: 2200000 | I35: =SUM(B35:H35) -> 3200000
A36: Expenditure - Other Specify (type below): | I36: =SUM(B36:H36) -> 0
A37: TOTAL PROJECT EXPENSE: | B37: =SUM(B33:B36) -> 0 | C37: =SUM(C33:C36) -> 100000 | D37: =SUM(D33:D36) -> 200000 | E37: =SUM(E33:E36) -> 1000000 | F37: =SUM(F33:F36) -> 2200000 | G37: =SUM(G33:G36) -> 0 | H37: =SUM(H33:H36) -> 0 | I37: =SUM(I33:I36) -> 3500000
A39: Funding Source ($) | B39: All Previous Years | C39: 2027 | D39: 2028 | E39: 2029 | F39: 2030 | G39: 2031 | H39: 2032 | I39: Total
A40: Funding - Ancillary | D40: 100000 | I40: =SUM(B40:H40) -> 100000
A41: Funding - Central Appropriation | D41: 100000 | E41: 1000000 | I41: =SUM(B41:H41) -> 1100000
A42: Funding - Departmental Carryover | B42: 65000 | I42: =SUM(B42:H42) -> 65000
A43: Funding - Endowment Trust | I43: =SUM(B43:H43) -> 0
A44: Funding - External | I44: =SUM(B44:H44) -> 0
A45: Funding - Grants FRP | I45: =SUM(B45:H45) -> 0
A46: Funding - Grants Other | I46: =SUM(B46:H46) -> 0
A47: Funding - Internal Financing | I47: =SUM(B47:H47) -> 0
A48: Funding - Operating | I48: =SUM(B48:H48) -> 0
...

Sheet MVP Weighting 4 Reference Only
A1: MVP for a New Capital Project | E1: OR | F1: MVP for an Existing Capital Asset | I1: (MVP - Multivariable Prioritization Tool)
A2: Category | B2: Criteria | C2: Scoring | D2: Weighting | F2: Category | G2: Subcategories | H2: Scoring | I2: Weighting
A3: Use / Purpose of Asset | B3: Service Infrastructure, Roadways & Faryon Bridge | C3: 100 | D3: 0.4 | F3: Use / Purpose of Asset | G3: Service Infrastructure, Roadways & Faryon Bridge | H3: 100 | I3: 0.07 | J3: Asset Level Specific (Building)
B4: Academic & Academic Administration | C4: 100 | G4: Academic & Academic Administration | H4: 100
B5: Research | C5: 90 | G5: Research | H5: 90
B6: Residence | C6: 70 | G6: Residence | H6: 70
B7: Athletics | C7: 50 | G7: Athletics | H7: 50
B8: Student Service | C8: 50 | G8: Student Service | H8: 50
B9: Administrative | C9: 30 | G9: Administrative | H9: 30
B10: Appurtenances such as Sheds, Gazebos, Storage Buildings | C10: 10 | G10: Appurtenances such as Sheds, Gazebos, Storage Buildings | H10: 10
B11: None of the above | C11: 0 | G11: None of the above | H11: 0
A12: Importance of Usage / Enabling Student Experiences | B12: Critical Importance: Life Safety & Security; Mission Critical / Essential / Required Operations. Significantly Enabling Student Experiences | C12: 100 | D12: 0.4 | F12: Importance of Usage / Enabling Student Experiences | G12: Critical Importance: Life Safety & Security; Mission Critical / Essential / Required Operations. Significantly Enabling Student Experiences | H12: 100 | I12: 0.13
B13: Major Importance: Instructional Teaching and Learning / Research - Direct Usage / Interaction. Highly Enabling Student Experiences. (e.g. Student Hub) | C13: 80 | G13: Major Importance: Instructional Teaching and Learning / Research - Direct Usage / Interaction. Highly Enabling Student Experiences. (e.g. Student Hub) | H13: 80
B14: Moderate Importance: Campus Life / Student Experience / Wellness - Direct Usage / Interaction. Moderately Enabling Student Experiences. (eg. common room, significant renovations in shared space) | C14: 60 | G14: Moderate Importance: Campus Life / Student Experience / Wellness - Direct Usage / Interaction. Moderately Enabling Student Experiences. (e.g. common room, significant renovations in shared space) | H14: 60
B15: Minor Importance: Brand Reputation / Aesthetics, Indoor Environment. Somewhat Enabling Student Experiences | C15: 30 | G15: Minor Importance: Brand Reputation / Aesthetics, Indoor Environment. Somewhat Enabling Student Experiences | H15: 20
B16: Lower Importance: Back of House. Negligibly Enabling Student Experiences. (e.g. Office) | C16: 10 | G16: Lower Importance: Back of House. Negligibly Enabling Student Experiences. (e.g. Office) | H16: 10
B17: None of the above | C17: 0 | G17: None of the above | H17: 0
A18: Adaptability (Multiuse or easy to repurpose) | B18: High - Can be transformed or used in multiple ways | C18: 100 | D18: 0.2 | F18: Adaptability (Multiuse or easy to repurpose) | G18: High - Can be transformed or used in multiple ways | H18: 100 | I18: 0.05
B19: Low - Small transformations or requires effort to repurpose | C19: 50 | G19: Low - Small transformations or requires effort to repurpose | H19: 50
B20: Infrastructure—Single purpose (e.g. sewers) Infrastructure can be considered High or Low (e.g., Faryon Bridge - High, Seminar Room - Low) | C20: 10 | G20: Infrastructure—Single purpose. Infrastructure can be considered High or Low (e.g., Faryon Bridge - High, Seminar Room - Low) | H20: 10
F21: Condition (System) | G21: Excellent | H21: =_xlfn.NUMBERVALUE(10) -> 10 | I21: 0.2 | J21: Uniformat Level Specific (Level 4 - Sub-Elements)
G22: Good | H22: 10
A23: Definitions: | G23: Fair | H23: 50
G24: Poor | H24: 100
A25: New Capital Project: - Focuses on creating or expanding assets - Addresses growth, capacity, or strategic needs - Increases future maintenance obligations - Creates or expands services | G25: Extremely Poor | H25: 100
F26: System Priority Ranking (Uniformat) | G26: Fire / Life Safety | H26: 100 | I26: 0.2
G27: Full Building Shutdown | H27: 90
G28: Program Interruption | H28: 70
G29: Aesthetics | H29: 40
G30: Nuisance | H30: 10
F31: Consequence of Failure (System) | G31: Catastrophic (Critical) | H31: 100 | I31: 0.1
G32: Major (Serious) | H32: 80
B33: Existing Capital Asset: (Renewal / Refurbishment / Rehabilitation): - Focuses on preserving existing assets - Addresses condition, risk, and lifecycle needs - Reduces deferred maintenance backlog - Supports existing services | G33: Moderate | H33: 60
G34: Minor | H34: 40
G35: Insignificant (Negligible) | H35: 20
F36: Effects on Users (Uniformat) | G36: Campus Shutdown / Mass Casualty | H36: 100 | I36: 0.1
G37: Campus Shutdown / Closure | H37: 80
G38: Multi-Building Shutdown / Closure | H38: 60
G39: Building Shutdown / Closure | H39: 40
G40: Partial Building Closure / Service Disruption | H40: 20
...
